BEGIN:VCALENDAR
VERSION:2.0
PRODID:-//Squarespace Inc/Squarespace 6//v6//EN
BEGIN:VEVENT
UID:5b679a7470a6adef3b1a11fa@squarespace.com
DTSTAMP:20180806T010727Z
DTSTART:20180827T213000Z
DTEND:20180828T023000Z
SUMMARY:Palmerston North Women's Day Retreat
GEO:-40.386765;175.619553
LOCATION:Wharerata Function Centre\, Massey University\, Palmerston North\, 
 New Zealand
END:VEVENT
END:VCALENDAR
